Package: RolDE Version: 1.11.0 Command: /home/biocbuild/R/R/bin/R CMD INSTALL RolDE StartedAt: 2025-01-29 19:58:56 -0000 (Wed, 29 Jan 2025) EndedAt: 2025-01-29 19:59:26 -0000 (Wed, 29 Jan 2025) EllapsedTime: 29.1 seconds RetCode: 0 Status: OK