Package: RolDE Version: 1.11.0 Command: /Library/Frameworks/R.framework/Resources/bin/R CMD build --keep-empty-dirs --no-resave-data RolDE StartedAt: 2025-02-05 18:05:46 -0500 (Wed, 05 Feb 2025) EndedAt: 2025-02-05 18:06:25 -0500 (Wed, 05 Feb 2025) EllapsedTime: 38.9 seconds RetCode: 0 Status: OK PackageFile: RolDE_1.11.0.tar.gz PackageFileSize: 1.266 MiB