Package: RolDE Version: 1.11.0 Command: /Library/Frameworks/R.framework/Resources/bin/R CMD INSTALL RolDE StartedAt: 2025-02-05 15:17:59 -0500 (Wed, 05 Feb 2025) EndedAt: 2025-02-05 15:18:28 -0500 (Wed, 05 Feb 2025) EllapsedTime: 29.1 seconds RetCode: 0 Status: OK