Package: RolDE Version: 1.11.0 Command: /home/biocbuild/bbs-3.21-bioc/R/bin/R CMD INSTALL RolDE StartedAt: 2025-02-05 15:22:06 -0500 (Wed, 05 Feb 2025) EndedAt: 2025-02-05 15:22:27 -0500 (Wed, 05 Feb 2025) EllapsedTime: 20.8 seconds RetCode: 0 Status: OK