Package: RolDE Version: 1.11.0 Command: rm -rf RolDE.buildbin-libdir && mkdir RolDE.buildbin-libdir && E:\biocbuild\bbs-3.21-bioc\R\bin\R.exe CMD INSTALL --build --library=RolDE.buildbin-libdir RolDE_1.11.0.tar.gz StartedAt: 2025-02-06 08:53:02 -0500 (Thu, 06 Feb 2025) EndedAt: 2025-02-06 08:53:29 -0500 (Thu, 06 Feb 2025) EllapsedTime: 27.3 seconds RetCode: 0 Status: OK PackageFile: RolDE_1.11.0.zip PackageFileSize: 1.359 MiB