Package: RolDE Version: 1.11.0 Command: E:\biocbuild\bbs-3.21-bioc\R\bin\R.exe CMD check --no-multiarch --install=check:RolDE.install-out.txt --library=E:\biocbuild\bbs-3.21-bioc\R\library --no-vignettes --timings RolDE_1.11.0.tar.gz StartedAt: 2025-02-06 05:19:51 -0500 (Thu, 06 Feb 2025) EndedAt: 2025-02-06 05:24:55 -0500 (Thu, 06 Feb 2025) EllapsedTime: 304.3 seconds RetCode: 0 Status: OK CheckDir: RolDE.Rcheck Warnings: 0