Package: RolDE Version: 1.11.0 Command: E:\biocbuild\bbs-3.21-bioc\R\bin\R.exe CMD INSTALL RolDE StartedAt: 2025-02-05 15:48:48 -0500 (Wed, 05 Feb 2025) EndedAt: 2025-02-05 15:49:16 -0500 (Wed, 05 Feb 2025) EllapsedTime: 28.7 seconds RetCode: 0 Status: OK