Package: Rsubread Version: 2.21.1 Maintainer: Wei Shi , Yang Liao and Gordon K Smyth MaintainerEmail: smyth at wehi.edu.au git_url: https://git.bioconductor.org/packages/Rsubread git_branch: devel git_last_commit: 0a98f2c git_last_commit_date: 2025-02-02 19:31:13 -0500 (Sun, 02 Feb 2025)