Package: Rsubread Version: 2.21.1 Command: rm -rf Rsubread.buildbin-libdir && mkdir Rsubread.buildbin-libdir && /Users/biocbuild/BBS/utils/build-universal.sh Rsubread_2.21.1.tar.gz /Library/Frameworks/R.framework/Resources/bin/R Rsubread.buildbin-libdir StartedAt: 2025-02-09 22:28:46 -0500 (Sun, 09 Feb 2025) EndedAt: 2025-02-09 22:29:03 -0500 (Sun, 09 Feb 2025) EllapsedTime: 17.3 seconds RetCode: 0 Status: OK PackageFile: Rsubread_2.21.1.tgz PackageFileSize: 13.17 MiB