Package: Rsubread Version: 2.21.1 Command: /Library/Frameworks/R.framework/Resources/bin/R CMD check --install=check:Rsubread.install-out.txt --library=/Library/Frameworks/R.framework/Resources/library --no-vignettes --timings Rsubread_2.21.1.tar.gz StartedAt: 2025-02-09 21:05:02 -0500 (Sun, 09 Feb 2025) EndedAt: 2025-02-09 21:10:11 -0500 (Sun, 09 Feb 2025) EllapsedTime: 308.9 seconds RetCode: 0 Status: WARNINGS CheckDir: Rsubread.Rcheck Warnings: 2