Package: Rsubread Version: 2.21.1 Command: /home/biocbuild/R/R/bin/R CMD check --install=check:Rsubread.install-out.txt --library=/home/biocbuild/R/R/site-library --no-vignettes --timings Rsubread_2.21.1.tar.gz StartedAt: 2025-01-28 14:46:43 -0000 (Tue, 28 Jan 2025) EndedAt: 2025-01-28 14:49:50 -0000 (Tue, 28 Jan 2025) EllapsedTime: 187.3 seconds RetCode: 0 Status: WARNINGS CheckDir: Rsubread.Rcheck Warnings: 2