Package: Rsubread Version: 2.21.1 Command: rm -rf Rsubread.buildbin-libdir && mkdir Rsubread.buildbin-libdir && /Users/biocbuild/BBS/utils/build-universal.sh Rsubread_2.21.1.tar.gz /Library/Frameworks/R.framework/Resources/bin/R Rsubread.buildbin-libdir StartedAt: 2025-02-10 01:13:26 -0500 (Mon, 10 Feb 2025) EndedAt: 2025-02-10 01:14:32 -0500 (Mon, 10 Feb 2025) EllapsedTime: 65.7 seconds RetCode: 0 Status: OK PackageFile: Rsubread_2.21.1.tgz PackageFileSize: 13.2 MiB