Package: Rsubread Version: 2.21.1 Command: /Library/Frameworks/R.framework/Resources/bin/R CMD check --install=check:Rsubread.install-out.txt --library=/Library/Frameworks/R.framework/Resources/library --no-vignettes --timings Rsubread_2.21.1.tar.gz StartedAt: 2025-02-12 23:01:17 -0500 (Wed, 12 Feb 2025) EndedAt: 2025-02-12 23:15:24 -0500 (Wed, 12 Feb 2025) EllapsedTime: 847.3 seconds RetCode: 0 Status: WARNINGS CheckDir: Rsubread.Rcheck Warnings: 2