Package: Rsubread Version: 2.21.1 Command: chmod a+r Rsubread -R && E:\biocbuild\bbs-3.21-bioc\R\bin\R.exe CMD build --keep-empty-dirs --no-resave-data Rsubread StartedAt: 2025-02-09 21:18:38 -0500 (Sun, 09 Feb 2025) EndedAt: 2025-02-09 21:21:42 -0500 (Sun, 09 Feb 2025) EllapsedTime: 183.7 seconds RetCode: 0 Status: OK PackageFile: Rsubread_2.21.1.tar.gz PackageFileSize: 12.81 MiB