Package: Rtpca Version: 1.17.0 Command: rm -rf Rtpca.buildbin-libdir && mkdir Rtpca.buildbin-libdir && /Users/biocbuild/BBS/utils/build-universal.sh Rtpca_1.17.0.tar.gz /Library/Frameworks/R.framework/Resources/bin/R Rtpca.buildbin-libdir StartedAt: 2025-02-09 22:28:55 -0500 (Sun, 09 Feb 2025) EndedAt: 2025-02-09 22:28:59 -0500 (Sun, 09 Feb 2025) EllapsedTime: 4.1 seconds RetCode: 0 Status: OK PackageFile: Rtpca_1.17.0.tgz PackageFileSize: 2.386 MiB