Package: Rtpca Version: 1.17.0 Command: /Library/Frameworks/R.framework/Resources/bin/R CMD INSTALL Rtpca StartedAt: 2025-02-04 15:05:48 -0500 (Tue, 04 Feb 2025) EndedAt: 2025-02-04 15:05:51 -0500 (Tue, 04 Feb 2025) EllapsedTime: 3.5 seconds RetCode: 0 Status: OK