Package: Rtpca Version: 1.17.0 Command: /home/biocbuild/R/R/bin/R CMD check --install=check:Rtpca.install-out.txt --library=/home/biocbuild/R/R/site-library --no-vignettes --timings Rtpca_1.17.0.tar.gz StartedAt: 2025-01-28 14:48:16 -0000 (Tue, 28 Jan 2025) EndedAt: 2025-01-28 14:49:35 -0000 (Tue, 28 Jan 2025) EllapsedTime: 79.1 seconds RetCode: 0 Status: OK CheckDir: Rtpca.Rcheck Warnings: 0