Package: Rtpca Version: 1.17.0 Command: /Library/Frameworks/R.framework/Resources/bin/R CMD build --keep-empty-dirs --no-resave-data Rtpca StartedAt: 2025-02-09 18:15:25 -0500 (Sun, 09 Feb 2025) EndedAt: 2025-02-09 18:15:58 -0500 (Sun, 09 Feb 2025) EllapsedTime: 33.1 seconds RetCode: 0 Status: OK PackageFile: Rtpca_1.17.0.tar.gz PackageFileSize: 2.12 MiB