Package: Rtpca Version: 1.17.0 Command: /home/biocbuild/bbs-3.21-bioc/R/bin/R CMD check --install=check:Rtpca.install-out.txt --library=/home/biocbuild/bbs-3.21-bioc/R/site-library --timings Rtpca_1.17.0.tar.gz StartedAt: 2025-02-10 02:08:48 -0500 (Mon, 10 Feb 2025) EndedAt: 2025-02-10 02:09:56 -0500 (Mon, 10 Feb 2025) EllapsedTime: 68.1 seconds RetCode: 0 Status: OK CheckDir: Rtpca.Rcheck Warnings: 0