Package: Rtpca Version: 1.17.0 Command: rm -rf Rtpca.buildbin-libdir && mkdir Rtpca.buildbin-libdir && E:\biocbuild\bbs-3.21-bioc\R\bin\R.exe CMD INSTALL --build --library=Rtpca.buildbin-libdir Rtpca_1.17.0.tar.gz StartedAt: 2025-02-13 08:46:57 -0500 (Thu, 13 Feb 2025) EndedAt: 2025-02-13 08:47:53 -0500 (Thu, 13 Feb 2025) EllapsedTime: 56.0 seconds RetCode: 0 Status: OK PackageFile: Rtpca_1.17.0.zip PackageFileSize: 2.276 MiB