Package: Rtpca Version: 1.17.0 Command: E:\biocbuild\bbs-3.21-bioc\R\bin\R.exe CMD check --no-multiarch --install=check:Rtpca.install-out.txt --library=E:\biocbuild\bbs-3.21-bioc\R\library --no-vignettes --timings Rtpca_1.17.0.tar.gz StartedAt: 2025-02-10 04:56:20 -0500 (Mon, 10 Feb 2025) EndedAt: 2025-02-10 04:57:39 -0500 (Mon, 10 Feb 2025) EllapsedTime: 78.7 seconds RetCode: 0 Status: OK CheckDir: Rtpca.Rcheck Warnings: 0