Package: Rtreemix Version: 1.69.0 Command: /home/biocbuild/R/R/bin/R CMD INSTALL Rtreemix StartedAt: 2025-01-29 20:06:54 -0000 (Wed, 29 Jan 2025) EndedAt: 2025-01-29 20:06:56 -0000 (Wed, 29 Jan 2025) EllapsedTime: 2.5 seconds RetCode: 1 Status: ERROR