Package: Rtreemix Version: 1.69.0 Command: chmod a+r Rtreemix -R && E:\biocbuild\bbs-3.21-bioc\R\bin\R.exe CMD build --keep-empty-dirs --no-resave-data Rtreemix StartedAt: 2025-02-03 21:33:36 -0500 (Mon, 03 Feb 2025) EndedAt: 2025-02-03 21:33:44 -0500 (Mon, 03 Feb 2025) EllapsedTime: 8.0 seconds RetCode: 1 Status: ERROR PackageFile: None PackageFileSize: NA