Package: Rtreemix Version: 1.69.0 Command: E:\biocbuild\bbs-3.21-bioc\R\bin\R.exe CMD INSTALL Rtreemix StartedAt: 2025-02-09 15:43:33 -0500 (Sun, 09 Feb 2025) EndedAt: 2025-02-09 15:43:38 -0500 (Sun, 09 Feb 2025) EllapsedTime: 5.0 seconds RetCode: 1 Status: ERROR