Package: S4Arrays Version: 1.7.3 Command: rm -rf S4Arrays.buildbin-libdir && mkdir S4Arrays.buildbin-libdir && /Users/biocbuild/BBS/utils/build-universal.sh S4Arrays_1.7.3.tar.gz /Library/Frameworks/R.framework/Resources/bin/R S4Arrays.buildbin-libdir StartedAt: 2025-02-09 22:29:03 -0500 (Sun, 09 Feb 2025) EndedAt: 2025-02-09 22:29:11 -0500 (Sun, 09 Feb 2025) EllapsedTime: 8.2 seconds RetCode: 0 Status: OK PackageFile: S4Arrays_1.7.3.tgz PackageFileSize: 1.155 MiB