Package: S4Arrays Version: 1.7.3 Command: /Library/Frameworks/R.framework/Resources/bin/R CMD check --install=check:S4Arrays.install-out.txt --library=/Library/Frameworks/R.framework/Resources/library --no-vignettes --timings S4Arrays_1.7.3.tar.gz StartedAt: 2025-02-09 21:06:56 -0500 (Sun, 09 Feb 2025) EndedAt: 2025-02-09 21:07:48 -0500 (Sun, 09 Feb 2025) EllapsedTime: 51.6 seconds RetCode: 1 Status: ERROR CheckDir: S4Arrays.Rcheck Warnings: NA