Package: S4Arrays Version: 1.7.3 Command: rm -rf S4Arrays.buildbin-libdir && mkdir S4Arrays.buildbin-libdir && /Users/biocbuild/BBS/utils/build-universal.sh S4Arrays_1.7.3.tar.gz /Library/Frameworks/R.framework/Resources/bin/R S4Arrays.buildbin-libdir StartedAt: 2025-02-10 01:13:50 -0500 (Mon, 10 Feb 2025) EndedAt: 2025-02-10 01:14:23 -0500 (Mon, 10 Feb 2025) EllapsedTime: 32.4 seconds RetCode: 0 Status: OK PackageFile: S4Arrays_1.7.3.tgz PackageFileSize: 1.153 MiB