Package: S4Arrays Version: 1.7.3 Command: /Library/Frameworks/R.framework/Resources/bin/R CMD build --keep-empty-dirs --no-resave-data S4Arrays StartedAt: 2025-02-09 18:16:03 -0500 (Sun, 09 Feb 2025) EndedAt: 2025-02-09 18:16:32 -0500 (Sun, 09 Feb 2025) EllapsedTime: 28.4 seconds RetCode: 0 Status: OK PackageFile: S4Arrays_1.7.3.tar.gz PackageFileSize: 287 KiB