Package: S4Arrays Version: 1.7.3 Command: /Library/Frameworks/R.framework/Resources/bin/R CMD INSTALL S4Arrays StartedAt: 2025-02-09 15:06:51 -0500 (Sun, 09 Feb 2025) EndedAt: 2025-02-09 15:07:23 -0500 (Sun, 09 Feb 2025) EllapsedTime: 31.9 seconds RetCode: 0 Status: OK