Package: S4Arrays Version: 1.7.3 Command: /home/biocbuild/bbs-3.21-bioc/R/bin/R CMD build --keep-empty-dirs --no-resave-data S4Arrays StartedAt: 2025-02-12 18:58:54 -0500 (Wed, 12 Feb 2025) EndedAt: 2025-02-12 18:59:16 -0500 (Wed, 12 Feb 2025) EllapsedTime: 22.0 seconds RetCode: 0 Status: OK PackageFile: S4Arrays_1.7.3.tar.gz PackageFileSize: 287.2 KiB