Package: S4Arrays Version: 1.7.3 Command: /home/biocbuild/bbs-3.21-bioc/R/bin/R CMD INSTALL S4Arrays StartedAt: 2025-02-12 15:14:33 -0500 (Wed, 12 Feb 2025) EndedAt: 2025-02-12 15:14:50 -0500 (Wed, 12 Feb 2025) EllapsedTime: 16.6 seconds RetCode: 0 Status: OK