Package: S4Arrays Version: 1.7.3 Command: rm -rf S4Arrays.buildbin-libdir && mkdir S4Arrays.buildbin-libdir && E:\biocbuild\bbs-3.21-bioc\R\bin\R.exe CMD INSTALL --build --library=S4Arrays.buildbin-libdir S4Arrays_1.7.3.tar.gz StartedAt: 2025-02-10 08:36:45 -0500 (Mon, 10 Feb 2025) EndedAt: 2025-02-10 08:38:09 -0500 (Mon, 10 Feb 2025) EllapsedTime: 84.4 seconds RetCode: 0 Status: OK PackageFile: S4Arrays_1.7.3.zip PackageFileSize: 1.155 MiB