Package: S4Arrays Version: 1.7.3 Command: E:\biocbuild\bbs-3.21-bioc\R\bin\R.exe CMD check --no-multiarch --install=check:S4Arrays.install-out.txt --library=E:\biocbuild\bbs-3.21-bioc\R\library --no-vignettes --timings S4Arrays_1.7.3.tar.gz StartedAt: 2025-02-10 04:58:44 -0500 (Mon, 10 Feb 2025) EndedAt: 2025-02-10 05:01:32 -0500 (Mon, 10 Feb 2025) EllapsedTime: 168.1 seconds RetCode: 0 Status: OK CheckDir: S4Arrays.Rcheck Warnings: 0