Package: S4Vectors Version: 0.45.2 Command: /home/biocbuild/R/R/bin/R CMD INSTALL S4Vectors StartedAt: 2025-01-29 19:32:22 -0000 (Wed, 29 Jan 2025) EndedAt: 2025-01-29 19:32:58 -0000 (Wed, 29 Jan 2025) EllapsedTime: 36.4 seconds RetCode: 0 Status: OK