Package: S4Vectors Version: 0.45.2 Command: rm -rf S4Vectors.buildbin-libdir && mkdir S4Vectors.buildbin-libdir && /Users/biocbuild/BBS/utils/build-universal.sh S4Vectors_0.45.2.tar.gz /Library/Frameworks/R.framework/Resources/bin/R S4Vectors.buildbin-libdir StartedAt: 2025-02-10 01:13:50 -0500 (Mon, 10 Feb 2025) EndedAt: 2025-02-10 01:14:37 -0500 (Mon, 10 Feb 2025) EllapsedTime: 46.2 seconds RetCode: 0 Status: OK PackageFile: S4Vectors_0.45.2.tgz PackageFileSize: 2.434 MiB