Package: S4Vectors Version: 0.45.2 Command: /home/biocbuild/bbs-3.21-bioc/R/bin/R CMD build --keep-empty-dirs --no-resave-data S4Vectors StartedAt: 2025-02-09 19:02:59 -0500 (Sun, 09 Feb 2025) EndedAt: 2025-02-09 19:03:53 -0500 (Sun, 09 Feb 2025) EllapsedTime: 54.2 seconds RetCode: 0 Status: OK PackageFile: S4Vectors_0.45.2.tar.gz PackageFileSize: 1.022 MiB