Package: S4Vectors Version: 0.45.2 Command: /home/biocbuild/bbs-3.21-bioc/R/bin/R CMD check --install=check:S4Vectors.install-out.txt --library=/home/biocbuild/bbs-3.21-bioc/R/site-library --timings S4Vectors_0.45.2.tar.gz StartedAt: 2025-02-10 02:10:58 -0500 (Mon, 10 Feb 2025) EndedAt: 2025-02-10 02:13:01 -0500 (Mon, 10 Feb 2025) EllapsedTime: 123.2 seconds RetCode: 0 Status: WARNINGS CheckDir: S4Vectors.Rcheck Warnings: 2