Package: S4Vectors Version: 0.45.4 Command: rm -rf S4Vectors.buildbin-libdir && mkdir S4Vectors.buildbin-libdir && E:\biocbuild\bbs-3.21-bioc\R\bin\R.exe CMD INSTALL --build --library=S4Vectors.buildbin-libdir S4Vectors_0.45.4.tar.gz StartedAt: 2025-02-13 08:47:45 -0500 (Thu, 13 Feb 2025) EndedAt: 2025-02-13 08:51:59 -0500 (Thu, 13 Feb 2025) EllapsedTime: 254.8 seconds RetCode: 0 Status: OK PackageFile: S4Vectors_0.45.4.zip PackageFileSize: 2.282 MiB