Package: S4Vectors Version: 0.45.4 Command: E:\biocbuild\bbs-3.21-bioc\R\bin\R.exe CMD INSTALL S4Vectors StartedAt: 2025-02-12 15:22:57 -0500 (Wed, 12 Feb 2025) EndedAt: 2025-02-12 15:27:40 -0500 (Wed, 12 Feb 2025) EllapsedTime: 282.6 seconds RetCode: 0 Status: OK