Package: SAIGEgds Version: 2.7.1 Command: /Library/Frameworks/R.framework/Resources/bin/R CMD build --keep-empty-dirs --no-resave-data SAIGEgds StartedAt: 2025-02-03 18:13:07 -0500 (Mon, 03 Feb 2025) EndedAt: 2025-02-03 18:14:14 -0500 (Mon, 03 Feb 2025) EllapsedTime: 67.4 seconds RetCode: 0 Status: OK PackageFile: SAIGEgds_2.7.1.tar.gz PackageFileSize: 1.976 MiB