Package: SAIGEgds Version: 2.7.1 Command: /home/biocbuild/bbs-3.21-bioc/R/bin/R CMD check --install=check:SAIGEgds.install-out.txt --library=/home/biocbuild/bbs-3.21-bioc/R/site-library --timings SAIGEgds_2.7.1.tar.gz StartedAt: 2025-02-10 02:11:48 -0500 (Mon, 10 Feb 2025) EndedAt: 2025-02-10 02:14:27 -0500 (Mon, 10 Feb 2025) EllapsedTime: 158.3 seconds RetCode: 0 Status: OK CheckDir: SAIGEgds.Rcheck Warnings: 0