Package: SAIGEgds Version: 2.7.1 Command: E:\biocbuild\bbs-3.21-bioc\R\bin\R.exe CMD check --no-multiarch --install=check:SAIGEgds.install-out.txt --library=E:\biocbuild\bbs-3.21-bioc\R\library --no-vignettes --timings SAIGEgds_2.7.1.tar.gz StartedAt: 2025-02-13 05:08:07 -0500 (Thu, 13 Feb 2025) EndedAt: 2025-02-13 05:11:08 -0500 (Thu, 13 Feb 2025) EllapsedTime: 181.4 seconds RetCode: 0 Status: OK CheckDir: SAIGEgds.Rcheck Warnings: 0