Package: SANTA Version: 2.43.0 Command: rm -rf SANTA.buildbin-libdir && mkdir SANTA.buildbin-libdir && /Users/biocbuild/BBS/utils/build-universal.sh SANTA_2.43.0.tar.gz /Library/Frameworks/R.framework/Resources/bin/R SANTA.buildbin-libdir StartedAt: 2025-02-09 22:29:07 -0500 (Sun, 09 Feb 2025) EndedAt: 2025-02-09 22:29:11 -0500 (Sun, 09 Feb 2025) EllapsedTime: 4.1 seconds RetCode: 0 Status: OK PackageFile: SANTA_2.43.0.tgz PackageFileSize: 4.135 MiB