Package: SANTA Version: 2.43.0 Command: /home/biocbuild/R/R/bin/R CMD INSTALL SANTA StartedAt: 2025-01-29 19:32:06 -0000 (Wed, 29 Jan 2025) EndedAt: 2025-01-29 19:32:24 -0000 (Wed, 29 Jan 2025) EllapsedTime: 18.2 seconds RetCode: 0 Status: OK