Package: SANTA Version: 2.43.0 Command: /Library/Frameworks/R.framework/Resources/bin/R CMD build --keep-empty-dirs --no-resave-data SANTA StartedAt: 2025-02-09 18:16:39 -0500 (Sun, 09 Feb 2025) EndedAt: 2025-02-09 18:16:54 -0500 (Sun, 09 Feb 2025) EllapsedTime: 14.9 seconds RetCode: 0 Status: OK PackageFile: SANTA_2.43.0.tar.gz PackageFileSize: 4.372 MiB