Package: SANTA Version: 2.43.0 Command: /Library/Frameworks/R.framework/Resources/bin/R CMD INSTALL SANTA StartedAt: 2025-02-03 15:10:03 -0500 (Mon, 03 Feb 2025) EndedAt: 2025-02-03 15:10:14 -0500 (Mon, 03 Feb 2025) EllapsedTime: 11.2 seconds RetCode: 0 Status: OK