Package: SANTA Version: 2.43.0 Command: /home/biocbuild/bbs-3.21-bioc/R/bin/R CMD build --keep-empty-dirs --no-resave-data SANTA StartedAt: 2025-02-09 19:03:36 -0500 (Sun, 09 Feb 2025) EndedAt: 2025-02-09 19:03:45 -0500 (Sun, 09 Feb 2025) EllapsedTime: 9.0 seconds RetCode: 0 Status: OK PackageFile: SANTA_2.43.0.tar.gz PackageFileSize: 4.372 MiB