Package: SANTA Version: 2.43.0 Command: /home/biocbuild/bbs-3.21-bioc/R/bin/R CMD INSTALL SANTA StartedAt: 2025-02-09 15:05:58 -0500 (Sun, 09 Feb 2025) EndedAt: 2025-02-09 15:06:11 -0500 (Sun, 09 Feb 2025) EllapsedTime: 13.0 seconds RetCode: 0 Status: OK