Package: SANTA Version: 2.43.0 Command: rm -rf SANTA.buildbin-libdir && mkdir SANTA.buildbin-libdir && E:\biocbuild\bbs-3.21-bioc\R\bin\R.exe CMD INSTALL --build --library=SANTA.buildbin-libdir SANTA_2.43.0.tar.gz StartedAt: 2025-02-10 08:37:00 -0500 (Mon, 10 Feb 2025) EndedAt: 2025-02-10 08:37:25 -0500 (Mon, 10 Feb 2025) EllapsedTime: 25.6 seconds RetCode: 0 Status: OK PackageFile: SANTA_2.43.0.zip PackageFileSize: 4.144 MiB