Package: SANTA Version: 2.43.0 Command: chmod a+r SANTA -R && E:\biocbuild\bbs-3.21-bioc\R\bin\R.exe CMD build --keep-empty-dirs --no-resave-data SANTA StartedAt: 2025-02-12 21:28:27 -0500 (Wed, 12 Feb 2025) EndedAt: 2025-02-12 21:28:47 -0500 (Wed, 12 Feb 2025) EllapsedTime: 19.8 seconds RetCode: 0 Status: OK PackageFile: SANTA_2.43.0.tar.gz PackageFileSize: 4.372 MiB